BEGIN:VCALENDAR
VERSION:2.0
PRODID:-//ChamberMaster//Event Calendar 2.0//EN
METHOD:PUBLISH
X-PUBLISHED-TTL:P3D
REFRESH-INTERVAL:P3D
CALSCALE:GREGORIAN
BEGIN:VEVENT
DTSTART:20180911T213000Z
DTEND:20180912T000000Z
X-MICROSOFT-CDO-ALLDAYEVENT:FALSE
SUMMARY:Seussical- The Musical Auditions
DESCRIPTION:Middle /Junior High Auditions Seussical- The Musical The Cat in the Hat tells the story of Horton\, an elephant who discovers a speck of dust containing Whos\, including Jojo\, a Who child sent off to military school for thinking too many "thinks." Horton faces a double challenge   not only must he protect the Whos from a world of naysayers and dangers\, but he must guard an abandoned egg\, left to his care by the irresponsible Mayzie La Bird. Although Horton faces ridicule\, danger\, kidnapping and a trial\, the intrepid Gertrude McFuzz never loses faith in him. Ultimately\, the powers of friendship\, loyalty\, family and community are challenged and emerge triumphant.
X-ALT-DESC;FMTTYPE=text/html:Middle /Junior High Auditions Seussical- The Musical The Cat in the Hat tells the story of Horton\, an elephant who discovers a speck of dust containing Whos\, including Jojo\, a Who child sent off to military school for thinking too many &quot\;thinks.&quot\; Horton faces a double challenge &ndash\; not only must he protect the Whos from a world of naysayers and dangers\, but he must guard an abandoned egg\, left to his care by the irresponsible Mayzie La Bird. Although Horton faces ridicule\, danger\, kidnapping and a trial\, the intrepid Gertrude McFuzz never loses faith in him. Ultimately\, the powers of friendship\, loyalty\, family and community are challenged and emerge triumphant.
LOCATION:401 7th Avenue S.W.\, Moultrie\, GA 31768
UID:e.570.9406
SEQUENCE:3
DTSTAMP:20260426T020421Z
URL:http://business.moultriechamber.com/events/details/seussical-the-musical-auditions-9406
END:VEVENT

END:VCALENDAR
