BEGIN:VCALENDAR
VERSION:2.0
PRODID:-//ChamberMaster//Event Calendar 2.0//EN
METHOD:PUBLISH
X-PUBLISHED-TTL:P3D
REFRESH-INTERVAL:P3D
CALSCALE:GREGORIAN
BEGIN:VEVENT
DTSTART:20200217T170000Z
DTEND:20200217T210000Z
X-MICROSOFT-CDO-ALLDAYEVENT:FALSE
SUMMARY:Serenity House Golf Tournament
DESCRIPTION:Colquitt County Serenity House will be hosting its annual golf tournament fundraiser. All proceeds will go to helping women and children escape domestic violence.
X-ALT-DESC;FMTTYPE=text/html:Colquitt County Serenity House will be hosting its annual golf tournament fundraiser. All proceeds will go to helping women and children escape domestic violence.
LOCATION:Sunset Country Club 2730 South Main Street Moultrie\, GA 31768
UID:e.570.10945
SEQUENCE:3
DTSTAMP:20260425T041057Z
URL:http://business.moultriechamber.com/events/details/serenity-house-golf-tournament-02-17-2020-10945
END:VEVENT

END:VCALENDAR
