BEGIN:VCALENDAR
VERSION:2.0
PRODID:-//ChamberMaster//Event Calendar 2.0//EN
METHOD:PUBLISH
X-PUBLISHED-TTL:P3D
REFRESH-INTERVAL:P3D
CALSCALE:GREGORIAN
BEGIN:VEVENT
DTSTART:20210605T210000Z
DTEND:20210606T000000Z
X-MICROSOFT-CDO-ALLDAYEVENT:FALSE
SUMMARY:Serenity House Daddy Daughter Dance
DESCRIPTION:Serenity House Daddy Daughter Dance benefiting the local domestic violence shelter. Grand March will begin at 5:00pm and the dance will start at 6:00pm. (Tickets can be bought in advance at Georgia's Own Credit Union or at the door the night of.)
X-ALT-DESC;FMTTYPE=text/html:Serenity House Daddy Daughter Dance benefiting the local domestic violence shelter. Grand March will begin at 5:00pm and the dance will start at 6:00pm. (Tickets can be bought in advance at Georgia&#39\;s Own Credit Union or at the door the night of.)
LOCATION:Southern Regional Technical College
UID:e.570.11428
SEQUENCE:3
DTSTAMP:20260424T075322Z
URL:http://business.moultriechamber.com/events/details/serenity-house-daddy-daughter-dance-11428
END:VEVENT

END:VCALENDAR
