BEGIN:VCALENDAR
VERSION:2.0
PRODID:-//ChamberMaster//Event Calendar 2.0//EN
METHOD:PUBLISH
X-PUBLISHED-TTL:P3D
REFRESH-INTERVAL:P3D
CALSCALE:GREGORIAN
BEGIN:VEVENT
DTSTART:20220205T220000Z
DTEND:20220206T010000Z
X-MICROSOFT-CDO-ALLDAYEVENT:FALSE
SUMMARY:Serenity House Daddy Daughter Dance
DESCRIPTION:Daddy Daughter Dance Grand March at 5:00pm Dance to follow Light Refreshments will be served
X-ALT-DESC;FMTTYPE=text/html:Daddy Daughter Dance Grand March at 5:00pm Dance to follow Light Refreshments will be served
LOCATION:Southern Regional Technical College Veterans Pkwy
UID:e.570.11968
SEQUENCE:3
DTSTAMP:20260423T215206Z
URL:http://business.moultriechamber.com/events/details/serenity-house-daddy-daughter-dance-02-05-2022-11968
END:VEVENT

END:VCALENDAR
