BEGIN:VCALENDAR
VERSION:2.0
PRODID:-//ChamberMaster//Event Calendar 2.0//EN
METHOD:PUBLISH
X-PUBLISHED-TTL:P3D
REFRESH-INTERVAL:P3D
CALSCALE:GREGORIAN
BEGIN:VEVENT
DTSTART:20211021T223000Z
DTEND:20211022T000000Z
X-MICROSOFT-CDO-ALLDAYEVENT:FALSE
SUMMARY:Serenity House Candlelight Vigil
DESCRIPTION:This is a time of remembrance for those in our community who lost their lives due to domestic violence.
X-ALT-DESC;FMTTYPE=text/html:This is a time of remembrance for those in our community who lost their lives due to domestic violence.
LOCATION:Courthouse Square
UID:e.570.11955
SEQUENCE:3
DTSTAMP:20260424T031437Z
URL:http://business.moultriechamber.com/events/details/serenity-house-candlelight-vigil-10-21-2021-11955
END:VEVENT

END:VCALENDAR
