BEGIN:VCALENDAR
VERSION:2.0
PRODID:-//ChamberMaster//Event Calendar 2.0//EN
METHOD:PUBLISH
X-PUBLISHED-TTL:P3D
REFRESH-INTERVAL:P3D
CALSCALE:GREGORIAN
BEGIN:VEVENT
DTSTART:20200314T230000Z
DTEND:20200315T010000Z
X-MICROSOFT-CDO-ALLDAYEVENT:FALSE
SUMMARY:Second Saturday
DESCRIPTION:Second Saturdays with Jackson County Line March 14\, 2020 7:00 p.m - 9:00 p.m.
X-ALT-DESC;FMTTYPE=text/html:Second Saturdays with Jackson County Line March 14\, 2020 7:00 p.m - 9:00 p.m.
LOCATION:Downtown Moultrie Square Amphitheater
UID:e.570.11155
SEQUENCE:3
DTSTAMP:20260425T035716Z
URL:http://business.moultriechamber.com/events/details/second-saturday-11155
END:VEVENT

END:VCALENDAR
