BEGIN:VCALENDAR
VERSION:2.0
PRODID:-//ChamberMaster//Event Calendar 2.0//EN
METHOD:PUBLISH
X-PUBLISHED-TTL:P3D
REFRESH-INTERVAL:P3D
CALSCALE:GREGORIAN
BEGIN:VEVENT
DTSTART:20240809T230000Z
DTEND:20240810T020000Z
X-MICROSOFT-CDO-ALLDAYEVENT:FALSE
SUMMARY:Seaplane Opry House
DESCRIPTION:Country music by Deep River Music\n\nEvery Friday from 7pm-10pm\n\nRound & Line dancing\n\nConcessions available
X-ALT-DESC;FMTTYPE=text/html:Country music by Deep River Music<br />\nEvery Friday from 7pm-10pm<br />\nRound &amp\; Line dancing<br />\nConcessions available
LOCATION:Seaplane Opry House Spencefield
UID:e.570.10844
SEQUENCE:3
DTSTAMP:20260422T115811Z
URL:http://business.moultriechamber.com/events/details/seaplane-opry-house-08-09-2024-10844
END:VEVENT

END:VCALENDAR
