BEGIN:VCALENDAR
VERSION:2.0
PRODID:-//ChamberMaster//Event Calendar 2.0//EN
METHOD:PUBLISH
X-PUBLISHED-TTL:P3D
REFRESH-INTERVAL:P3D
CALSCALE:GREGORIAN
BEGIN:VEVENT
DTSTART:20200723T213000Z
DTEND:20200723T230000Z
X-MICROSOFT-CDO-ALLDAYEVENT:FALSE
SUMMARY:Scrabble Ornaments Workshop
DESCRIPTION:Thursday\, July 23rd 5:30 pm   7:00 pm Ages 12+ $20 Supplies Included *Deadline to register July 20th* Spell out a message or name with wooden scrabble pieces on a burlap base for a fun vintage gift. Students will make 3 ornaments. Instructor: Connie Fritz
X-ALT-DESC;FMTTYPE=text/html:Thursday\, July 23rd 5:30 pm &ndash\; 7:00 pm Ages 12+ $20 Supplies Included *Deadline to register July 20th* Spell out a message or name with wooden scrabble pieces on a burlap base for a fun vintage gift. Students will make 3 ornaments. Instructor: Connie Fritz
LOCATION:Colquitt County Arts Center 401 7th Avenue S.W. Moultrie\, GA 31768
UID:e.570.11163
SEQUENCE:3
DTSTAMP:20260424T212009Z
URL:http://business.moultriechamber.com/events/details/scrabble-ornaments-workshop-11163
END:VEVENT

END:VCALENDAR
