BEGIN:VCALENDAR
VERSION:2.0
PRODID:-//ChamberMaster//Event Calendar 2.0//EN
METHOD:PUBLISH
X-PUBLISHED-TTL:P3D
REFRESH-INTERVAL:P3D
CALSCALE:GREGORIAN
BEGIN:VEVENT
DTSTART:20181002T220000Z
DTEND:20181002T233000Z
X-MICROSOFT-CDO-ALLDAYEVENT:FALSE
SUMMARY:SCORE Workshop: Citrus and Plants\, including Nurseries
DESCRIPTION:Each year\, SCORE provides small business mentoring and workshops to new and growing small businesses. Colquitt County SCORE was named in Georgia as one of 8 states to work with the USDA on an AG initiative to mentor AG related business. If you are looking to start a new AG related business and interested in Citrus rules and regulations then join us for heavy hors d' oeuvres\, October 2nd at 6:00 at the Colquitt County Ag Center for the second workshop in a Series sponsored by Ameris Bank. Reservations required\, so call the Moultrie - Colquitt County Chamber at 985-2131 today!
X-ALT-DESC;FMTTYPE=text/html:Each year\, SCORE provides small business mentoring and workshops to new and growing small businesses. Colquitt County SCORE was named in Georgia as one of 8 states to work with the USDA on an AG initiative to mentor AG related business. If you are looking to start a new AG related business and interested in Citrus rules and regulations then join us for heavy hors d&rsquo\; oeuvres\, October 2nd at 6:00 at the Colquitt County Ag Center for the second workshop in a Series sponsored by Ameris Bank. Reservations required\, so call the Moultrie - Colquitt County Chamber at 985-2131 today!
LOCATION:Moultrie-Colquitt County Ag Center\, 350 N Veterans Pkwy # 132\, Moultrie\, GA 31788
UID:e.570.9442
SEQUENCE:3
DTSTAMP:20260426T015700Z
URL:http://business.moultriechamber.com/events/details/score-workshop-citrus-and-plants-including-nurseries-9442
END:VEVENT

END:VCALENDAR
