BEGIN:VCALENDAR
VERSION:2.0
PRODID:-//ChamberMaster//Event Calendar 2.0//EN
METHOD:PUBLISH
X-PUBLISHED-TTL:P3D
REFRESH-INTERVAL:P3D
CALSCALE:GREGORIAN
BEGIN:VEVENT
DTSTART:20211204T223000Z
DTEND:20211205T010000Z
X-MICROSOFT-CDO-ALLDAYEVENT:FALSE
SUMMARY:Santa Stroll n’ Roll
DESCRIPTION:1 mile fun run / walk\, under the lights around the square! Strollers\, scooters\, and kids' bikes welcome! 5:30 Pre-race festivities for the whole family: Cookies and story time with Santa\, scene from Frozen children's theatre performance\, live nativity! 6:30 Race begins!
X-ALT-DESC;FMTTYPE=text/html:1 mile fun run / walk\, under the lights around the square! Strollers\, scooters\, and kids&rsquo\; bikes welcome! 5:30 Pre-race festivities for the whole family: Cookies and story time with Santa\, scene from Frozen children&rsquo\;s theatre performance\, live nativity! 6:30 Race begins!
LOCATION:Downtown Moultrie\, under the lights
UID:e.570.11954
SEQUENCE:3
DTSTAMP:20260424T003724Z
URL:http://business.moultriechamber.com/events/details/santa-stroll-n-roll-12-04-2021-11954
END:VEVENT

END:VCALENDAR
