BEGIN:VCALENDAR
VERSION:2.0
PRODID:-//ChamberMaster//Event Calendar 2.0//EN
METHOD:PUBLISH
X-PUBLISHED-TTL:P3D
REFRESH-INTERVAL:P3D
CALSCALE:GREGORIAN
BEGIN:VEVENT
DTSTART:20180724T111500Z
DTEND:20180724T160000Z
X-MICROSOFT-CDO-ALLDAYEVENT:FALSE
SUMMARY:SAE Field Day
DESCRIPTION:Farmers are invited to come and get practical information from the region's top agricultural scientists about the newest technologies farmers ca use to improve their operations
X-ALT-DESC;FMTTYPE=text/html:Farmers are invited to come and get practical information from the region&#39\;s top agricultural scientists about the newest technologies farmers ca use to improve their operations
LOCATION:Sunbelt Ag Expo
UID:e.570.9350
SEQUENCE:3
DTSTAMP:20260426T043143Z
URL:http://business.moultriechamber.com/events/details/sae-field-day-9350
END:VEVENT

END:VCALENDAR
