BEGIN:VCALENDAR
VERSION:2.0
PRODID:-//ChamberMaster//Event Calendar 2.0//EN
METHOD:PUBLISH
X-PUBLISHED-TTL:P3D
REFRESH-INTERVAL:P3D
CALSCALE:GREGORIAN
BEGIN:VEVENT
DTSTART:20180915T233000Z
DTEND:20180916T023000Z
X-MICROSOFT-CDO-ALLDAYEVENT:FALSE
SUMMARY:RUMOuRS-Fleetwood Mac Tribute Band
DESCRIPTION:Selling out shows to standing room only crowds\, fans have seen Rumours at venues including The Fillmore in Charlotte\, NC\, Daryl's House in Pawling\, NY owned by music icon Daryl Hall\, a weeklong residency at Epcot Center in Disney World\, the 310 Room Austin City Limits and multiple Live Nation venues. 2018 Fleetwood Mac will embark on their farewell tour. Rumours are determined to keep the music of the legendary band Rumours are composed of band members Mekenzie Jackson (lead vocals)\, Doug Easterly (lead and backing vocals\, guitar and percussion)\, Alex Thrift (lead guitar)\, Adrienne Cottrell (keyboards\, lead and backing vocals)\, Nick Whitson (bass) and Daniel Morrison (drums). Do you believe in miracles? Do you believe in the ways of magic? Rumours does!
X-ALT-DESC;FMTTYPE=text/html:Selling out shows to standing room only crowds\, fans have seen Rumours at venues including The Fillmore in Charlotte\, NC\, Daryl&rsquo\;s House in Pawling\, NY owned by music icon Daryl Hall\, a weeklong residency at Epcot Center in Disney World\, the 310 Room Austin City Limits and multiple Live Nation venues. 2018 Fleetwood Mac will embark on their farewell tour. Rumours are determined to keep the music of the legendary band Rumours are composed of band members Mekenzie Jackson (lead vocals)\, Doug Easterly (lead and backing vocals\, guitar and percussion)\, Alex Thrift (lead guitar)\, Adrienne Cottrell (keyboards\, lead and backing vocals)\, Nick Whitson (bass) and Daniel Morrison (drums). Do you believe in miracles? Do you believe in the ways of magic? Rumours does!
LOCATION:Mobley Warehouse 21 5th ST NE
UID:e.570.9308
SEQUENCE:3
DTSTAMP:20260426T021128Z
URL:http://business.moultriechamber.com/events/details/rumours-fleetwood-mac-tribute-band-9308
END:VEVENT

END:VCALENDAR
