BEGIN:VCALENDAR
VERSION:2.0
PRODID:-//ChamberMaster//Event Calendar 2.0//EN
METHOD:PUBLISH
X-PUBLISHED-TTL:P3D
REFRESH-INTERVAL:P3D
CALSCALE:GREGORIAN
BEGIN:VEVENT
DTSTART:20180916T000000Z
DTEND:20180916T030000Z
X-MICROSOFT-CDO-ALLDAYEVENT:FALSE
SUMMARY:Rumors- Fleetwood Mac Tribute
DESCRIPTION:Rumors- The premier Fleetwood Mac Tribute Band will be in Moultrie for a one night performance you won't want to miss!
X-ALT-DESC;FMTTYPE=text/html:Rumors- The premier Fleetwood Mac Tribute Band will be in Moultrie for a one night performance you won&#39\;t want to miss!
LOCATION:Warehouse District-TBA
UID:e.570.9089
SEQUENCE:3
DTSTAMP:20260426T020935Z
URL:http://business.moultriechamber.com/events/details/rumors-fleetwood-mac-tribute-9089
END:VEVENT

END:VCALENDAR
