BEGIN:VCALENDAR
VERSION:2.0
PRODID:-//ChamberMaster//Event Calendar 2.0//EN
METHOD:PUBLISH
X-PUBLISHED-TTL:P3D
REFRESH-INTERVAL:P3D
CALSCALE:GREGORIAN
BEGIN:VEVENT
DTSTART:20220322T140000Z
DTEND:20220329T230000Z
X-MICROSOFT-CDO-ALLDAYEVENT:FALSE
SUMMARY:Rowell Auctions - The Anderegg Estate Auction
DESCRIPTION:Online Auction selling the entire contents of this beautiful appointed southern home! Open House Sunday\, March 27th 2-5
X-ALT-DESC;FMTTYPE=text/html:Online Auction selling the entire contents of this beautiful appointed southern home! Open House Sunday\, March 27th 2-5
LOCATION:12 Flintridge Rd Moultrie\, GA
UID:e.570.12076
SEQUENCE:3
DTSTAMP:20260423T205601Z
URL:http://business.moultriechamber.com/events/details/rowell-auctions-the-anderegg-estate-auction-12076
END:VEVENT

END:VCALENDAR
