BEGIN:VCALENDAR
VERSION:2.0
PRODID:-//ChamberMaster//Event Calendar 2.0//EN
METHOD:PUBLISH
X-PUBLISHED-TTL:P3D
REFRESH-INTERVAL:P3D
CALSCALE:GREGORIAN
BEGIN:VEVENT
DTSTART:20190627T220000Z
DTEND:20190628T000000Z
X-MICROSOFT-CDO-ALLDAYEVENT:FALSE
SUMMARY:Rose Painting Workshop
DESCRIPTION:Rose Painting June 27th $25 Supplies Included 6:00 pm   8:00 pm Choose from one of three roses to paint on an 8? x 10? canvas. Invite your friends and follow along with Kathy Nelson in this relaxing and fun workshop.
X-ALT-DESC;FMTTYPE=text/html:Rose Painting June 27th $25 Supplies Included 6:00 pm &ndash\; 8:00 pm Choose from one of three roses to paint on an 8? x 10? canvas. Invite your friends and follow along with Kathy Nelson in this relaxing and fun workshop.
LOCATION:401 7th Ave. SW
UID:e.570.9564
SEQUENCE:3
DTSTAMP:20260425T140643Z
URL:http://business.moultriechamber.com/events/details/rose-painting-workshop-9564
END:VEVENT

END:VCALENDAR
