BEGIN:VCALENDAR
VERSION:2.0
PRODID:-//ChamberMaster//Event Calendar 2.0//EN
METHOD:PUBLISH
X-PUBLISHED-TTL:P3D
REFRESH-INTERVAL:P3D
CALSCALE:GREGORIAN
BEGIN:VEVENT
DTSTART:20210414T194500Z
DTEND:20210414T211500Z
X-MICROSOFT-CDO-ALLDAYEVENT:FALSE
SUMMARY:Rooster Days Painting
DESCRIPTION:Follow along with Rio Davies to paint this image of a colorful rooster. Every step will be broken down so all levels of artists can enjoy. Wednesday\, April 14th 3:45 pm   5:15 pm All Ages $35 Supplies Provided Instructor Rio Davies
X-ALT-DESC;FMTTYPE=text/html:Follow along with Rio Davies to paint this image of a colorful rooster. Every step will be broken down so all levels of artists can enjoy. Wednesday\, April 14th 3:45 pm &ndash\; 5:15 pm All Ages $35 Supplies Provided Instructor Rio Davies
LOCATION:Colquitt County Arts Center 401 7th Avenue S.W. Moultrie\, GA 31768
UID:e.570.11348
SEQUENCE:3
DTSTAMP:20260424T103127Z
URL:http://business.moultriechamber.com/events/details/rooster-days-painting-11348
END:VEVENT

END:VCALENDAR
