BEGIN:VCALENDAR
VERSION:2.0
PRODID:-//ChamberMaster//Event Calendar 2.0//EN
METHOD:PUBLISH
X-PUBLISHED-TTL:P3D
REFRESH-INTERVAL:P3D
CALSCALE:GREGORIAN
BEGIN:VEVENT
DTSTART:20180710T220000Z
DTEND:20180710T230000Z
X-MICROSOFT-CDO-ALLDAYEVENT:FALSE
SUMMARY:Rockin’ Movies & Trivia in the Library for Adults
DESCRIPTION:Dust off your old saddle shoes and burn rubber to the library as we watch a musical movie and play some Mad Movie Trivia!
X-ALT-DESC;FMTTYPE=text/html:Dust off your old saddle shoes and burn rubber to the library as we watch a musical movie and play some Mad Movie Trivia!
LOCATION:Moultrie Library\, 225 S. Main St\, Moultrie (Temporary Location)
UID:e.570.9289
SEQUENCE:3
DTSTAMP:20260426T044336Z
URL:http://business.moultriechamber.com/events/details/rockin-movies-trivia-in-the-library-for-adults-07-10-2018-9289
END:VEVENT

END:VCALENDAR
