BEGIN:VCALENDAR
VERSION:2.0
PRODID:-//ChamberMaster//Event Calendar 2.0//EN
METHOD:PUBLISH
X-PUBLISHED-TTL:P3D
REFRESH-INTERVAL:P3D
CALSCALE:GREGORIAN
BEGIN:VEVENT
DTSTART:20240503T123000Z
DTEND:20240503T133000Z
X-MICROSOFT-CDO-ALLDAYEVENT:FALSE
SUMMARY:Rise & Grind
DESCRIPTION:In celebration of National Small Business Week\, we invite all small business owners\, Chamber member or not\, to join us for a networking event! A fantastic opportunity to connect with fellow entrepreneurs\, exchange insights\, and discuss all things related business.  \n\nThere is no cost to attend and breakfast will be provided.\n\n\n\nHosted by the Moultrie-Colquitt County Chamber of Commerce.
X-ALT-DESC;FMTTYPE=text/html:<br />\n<span style="font-size:18px\;"><span style="font-family:arial\;">In celebration of National Small Business Week\, we invite all small business owners\, Chamber member or not\, to join us for a networking event! A fantastic opportunity to connect with fellow entrepreneurs\, exchange insights\, and discuss all things related business.&nbsp\;&nbsp\;<br />\nThere is no cost to attend and breakfast will be provided.<br />\n<br />\nHosted by the Moultrie-Colquitt County Chamber of Commerce.&nbsp\;</span></span>
LOCATION:Event will take place at the Chamber 3rd Floor. 116 1st Ave SE\, Moultrie\, GA
UID:e.570.13263
SEQUENCE:3
DTSTAMP:20260422T130005Z
URL:http://business.moultriechamber.com/events/details/rise-grind-13263
END:VEVENT

END:VCALENDAR
