BEGIN:VCALENDAR
VERSION:2.0
PRODID:-//ChamberMaster//Event Calendar 2.0//EN
METHOD:PUBLISH
X-PUBLISHED-TTL:P3D
REFRESH-INTERVAL:P3D
CALSCALE:GREGORIAN
BEGIN:VEVENT
DTSTART:20210526T203000Z
DTEND:20210526T210000Z
X-MICROSOFT-CDO-ALLDAYEVENT:FALSE
SUMMARY:Ribbon Cutting for Tru Home Care & Concierge Services
DESCRIPTION:Join us for a Ribbon Cutting celebrating one of our newest Chamber members- Tru Home Care & Concierge Services!\n\n\n\n*Masks & social distancing are encouraged*\n\n\n\n#TeamChamber
X-ALT-DESC;FMTTYPE=text/html:<div class="kvgmc6g5 cxmmr5t8 oygrvhab hcukyx3x c1et5uql"><span class="d2edcug0 hpfvmrgz qv66sw1b c1et5uql lr9zc1uh a8c37x1j keod5gw0 nxhoafnm aigsh9s9 d3f4x2em fe6kdd0r mau55g9w c8b282yb iv3no6db jq4qci2q a3bd9o3v knj5qynh oo9gr5id" dir="auto">Join us for a Ribbon Cutting celebrating one of our newest Chamber members- Tru Home Care &amp\; Concierge Services!</span></div>\n\n<div class="o9v6fnle cxmmr5t8 oygrvhab hcukyx3x c1et5uql"><br />\n<span class="d2edcug0 hpfvmrgz qv66sw1b c1et5uql lr9zc1uh a8c37x1j keod5gw0 nxhoafnm aigsh9s9 d3f4x2em fe6kdd0r mau55g9w c8b282yb iv3no6db jq4qci2q a3bd9o3v knj5qynh oo9gr5id" dir="auto">*Masks &amp\; social distancing are encouraged*</span></div>\n\n<div class="o9v6fnle cxmmr5t8 oygrvhab hcukyx3x c1et5uql"><br />\n<span class="d2edcug0 hpfvmrgz qv66sw1b c1et5uql lr9zc1uh a8c37x1j keod5gw0 nxhoafnm aigsh9s9 d3f4x2em fe6kdd0r mau55g9w c8b282yb iv3no6db jq4qci2q a3bd9o3v knj5qynh oo9gr5id" dir="auto"><a class="oajrlxb2 g5ia77u1 qu0x051f esr5mh6w e9989ue4 r7d6kgcz rq0escxv nhd2j8a9 nc684nl6 p7hjln8o kvgmc6g5 cxmmr5t8 oygrvhab hcukyx3x jb3vyjys rz4wbd8a qt6c0cv9 a8nywdso i1ao9s8h esuyzwwr f1sip0of lzcic4wl oo9gr5id gpro0wi8 lrazzd5p" href="https://www.facebook.com/hashtag/teamchamber?__eep__=6&amp\;__cft__[0]=AZXw6m6z8vzvt8qxFTxtKTLBKRqnVhl4pnLztxl4VgpJWMFwQfC0lDEJ6l233n1PbnkY9Jkb-jFtxW82ezWJYpIxUk6LVm7y9NI3I4A7aqE3YVFeg6Hg55Q1hT_KHwXOrhU&amp\;__tn__=q" role="link" tabindex="0">#TeamChamber</a></span></div>\n\n<div class="gl3lb2sf">&nbsp\;</div>\n
LOCATION:1625 Camilla Hwy\, Moultrie\, GA 31768
UID:e.570.11378
SEQUENCE:3
DTSTAMP:20260424T103357Z
URL:http://business.moultriechamber.com/events/details/ribbon-cutting-for-tru-home-care-concierge-services-11378
END:VEVENT

END:VCALENDAR
