BEGIN:VCALENDAR
VERSION:2.0
PRODID:-//ChamberMaster//Event Calendar 2.0//EN
METHOD:PUBLISH
X-PUBLISHED-TTL:P3D
REFRESH-INTERVAL:P3D
CALSCALE:GREGORIAN
BEGIN:VEVENT
DTSTART:20190606T140000Z
DTEND:20190606T143000Z
X-MICROSOFT-CDO-ALLDAYEVENT:FALSE
SUMMARY:Ribbon Cutting for The White Feather
DESCRIPTION:Join us for a Ribbon Cutting celebrating The White Feather as one of our newest Chamber members!
X-ALT-DESC;FMTTYPE=text/html:Join us for a Ribbon Cutting celebrating The White Feather as one of our newest Chamber members!
LOCATION:The White Feather 2423 S Main Street Moultrie\, GA 31768
UID:e.570.9558
SEQUENCE:3
DTSTAMP:20260425T140807Z
URL:http://business.moultriechamber.com/events/details/ribbon-cutting-for-the-white-feather-9558
END:VEVENT

END:VCALENDAR
