BEGIN:VCALENDAR
VERSION:2.0
PRODID:-//ChamberMaster//Event Calendar 2.0//EN
METHOD:PUBLISH
X-PUBLISHED-TTL:P3D
REFRESH-INTERVAL:P3D
CALSCALE:GREGORIAN
BEGIN:VEVENT
DTSTART:20190822T140000Z
DTEND:20190822T143000Z
X-MICROSOFT-CDO-ALLDAYEVENT:FALSE
SUMMARY:Ribbon Cutting for The Pink Penny Private Homecare
DESCRIPTION:Join us in celebrating The Pink Penny as one of our newest Chamber members!\n\n\n\n#TeamChamber
X-ALT-DESC;FMTTYPE=text/html:Join us in celebrating The Pink Penny as one of our newest Chamber members!<br />\n<br />\n#TeamChamber
LOCATION:116 1st Ave SE\, Moultrie (Chamber of Commerce)
UID:e.570.9589
SEQUENCE:3
DTSTAMP:20260425T115909Z
URL:http://business.moultriechamber.com/events/details/ribbon-cutting-for-the-pink-penny-private-homecare-9589
END:VEVENT

END:VCALENDAR
