BEGIN:VCALENDAR
VERSION:2.0
PRODID:-//ChamberMaster//Event Calendar 2.0//EN
METHOD:PUBLISH
X-PUBLISHED-TTL:P3D
REFRESH-INTERVAL:P3D
CALSCALE:GREGORIAN
BEGIN:VEVENT
DTSTART:20180813T153000Z
DTEND:20180813T160000Z
X-MICROSOFT-CDO-ALLDAYEVENT:FALSE
SUMMARY:Ribbon Cutting for Strategic Wealth Group
DESCRIPTION:Join us in celebrating Strategic Wealth Group during their ribbon cutting ceremony!
X-ALT-DESC;FMTTYPE=text/html:Join us in celebrating Strategic Wealth Group during their ribbon cutting ceremony!
LOCATION:Moultrie Colquitt County Chamber of Commerce\, 116 1st Ave SE
UID:e.570.9371
SEQUENCE:3
DTSTAMP:20260426T032329Z
URL:http://business.moultriechamber.com/events/details/ribbon-cutting-for-strategic-wealth-group-9371
END:VEVENT

END:VCALENDAR
