BEGIN:VCALENDAR
VERSION:2.0
PRODID:-//ChamberMaster//Event Calendar 2.0//EN
METHOD:PUBLISH
X-PUBLISHED-TTL:P3D
REFRESH-INTERVAL:P3D
CALSCALE:GREGORIAN
BEGIN:VEVENT
DTSTART:20181009T143000Z
DTEND:20181009T150000Z
X-MICROSOFT-CDO-ALLDAYEVENT:FALSE
SUMMARY:Ribbon Cutting for Sterling Group Rheumatology
DESCRIPTION:Join us as we celebrate Sterling Group Rheumatology during their ribbon cutting ceremony!!
X-ALT-DESC;FMTTYPE=text/html:Join us as we celebrate Sterling Group Rheumatology during their ribbon cutting ceremony!!
LOCATION:6 Hospital Park\, Moultrie
UID:e.570.9437
SEQUENCE:3
DTSTAMP:20260426T005236Z
URL:http://business.moultriechamber.com/events/details/ribbon-cutting-for-sterling-group-rheumatology-9437
END:VEVENT

END:VCALENDAR
