BEGIN:VCALENDAR
VERSION:2.0
PRODID:-//ChamberMaster//Event Calendar 2.0//EN
METHOD:PUBLISH
X-PUBLISHED-TTL:P3D
REFRESH-INTERVAL:P3D
CALSCALE:GREGORIAN
BEGIN:VEVENT
DTSTART:20210716T130000Z
DTEND:20210716T140000Z
X-MICROSOFT-CDO-ALLDAYEVENT:FALSE
SUMMARY:Ribbon Cutting for Spires Striping
DESCRIPTION:Join us for a Ribbon Cutting celebrating one of our newest Chamber members- Spires Striping!\n\n \n\n*Masks & social distancing are encouraged*\n\n \n\n#TeamChamber
X-ALT-DESC;FMTTYPE=text/html:<div class="kvgmc6g5 cxmmr5t8 oygrvhab hcukyx3x c1et5uql"><span class="d2edcug0 hpfvmrgz qv66sw1b c1et5uql lr9zc1uh a8c37x1j keod5gw0 nxhoafnm aigsh9s9 d3f4x2em fe6kdd0r mau55g9w c8b282yb iv3no6db jq4qci2q a3bd9o3v knj5qynh oo9gr5id" dir="auto">Join us for a Ribbon Cutting celebrating one of our newest Chamber members- Spires Striping!</span><br />\n&nbsp\;</div>\n\n<div class="o9v6fnle cxmmr5t8 oygrvhab hcukyx3x c1et5uql"><span class="d2edcug0 hpfvmrgz qv66sw1b c1et5uql lr9zc1uh a8c37x1j keod5gw0 nxhoafnm aigsh9s9 d3f4x2em fe6kdd0r mau55g9w c8b282yb iv3no6db jq4qci2q a3bd9o3v knj5qynh oo9gr5id" dir="auto">*Masks &amp\; social distancing are encouraged*</span><br />\n&nbsp\;</div>\n\n<div class="o9v6fnle cxmmr5t8 oygrvhab hcukyx3x c1et5uql"><span class="d2edcug0 hpfvmrgz qv66sw1b c1et5uql lr9zc1uh a8c37x1j keod5gw0 nxhoafnm aigsh9s9 d3f4x2em fe6kdd0r mau55g9w c8b282yb iv3no6db jq4qci2q a3bd9o3v knj5qynh oo9gr5id" dir="auto"><a class="oajrlxb2 g5ia77u1 qu0x051f esr5mh6w e9989ue4 r7d6kgcz rq0escxv nhd2j8a9 nc684nl6 p7hjln8o kvgmc6g5 cxmmr5t8 oygrvhab hcukyx3x jb3vyjys rz4wbd8a qt6c0cv9 a8nywdso i1ao9s8h esuyzwwr f1sip0of lzcic4wl oo9gr5id gpro0wi8 lrazzd5p" href="https://www.facebook.com/hashtag/teamchamber?__eep__=6&amp\;__cft__[0]=AZXXAzClknZbILa3cP87_qzie4UhVdUy45HTCkLTYdA7nOUMrA9VTxFbOpCi_sPnAfX_tscgOGlTBFB3UzjKq9Bo9n5dZ3EgQc_ET4mrGnAkbETl7pFg6XTMLojCcXua4GU&amp\;__tn__=q" role="link" tabindex="0">#TeamChamber</a></span></div>\n
LOCATION:116 1st Ave SE\, Moultrie (Chamber)
UID:e.570.11603
SEQUENCE:3
DTSTAMP:20260424T065617Z
URL:http://business.moultriechamber.com/events/details/ribbon-cutting-for-spires-striping-11603
END:VEVENT

END:VCALENDAR
