BEGIN:VCALENDAR
VERSION:2.0
PRODID:-//ChamberMaster//Event Calendar 2.0//EN
METHOD:PUBLISH
X-PUBLISHED-TTL:P3D
REFRESH-INTERVAL:P3D
CALSCALE:GREGORIAN
BEGIN:VEVENT
DTSTART:20190926T140000Z
DTEND:20190926T143000Z
X-MICROSOFT-CDO-ALLDAYEVENT:FALSE
SUMMARY:Ribbon Cutting for Service Loan Company
DESCRIPTION:Join us for a ribbon cutting celebrating Service Loan Company as one of our newest Chamber members!\n\n\n\n#TeamChamber
X-ALT-DESC;FMTTYPE=text/html:Join us for a ribbon cutting celebrating Service Loan Company as one of our newest Chamber members!<br />\n<br />\n#TeamChamber
LOCATION:2017 5th Street SE
UID:e.570.9645
SEQUENCE:3
DTSTAMP:20260425T115152Z
URL:http://business.moultriechamber.com/events/details/ribbon-cutting-for-service-loan-company-9645
END:VEVENT

END:VCALENDAR
