BEGIN:VCALENDAR
VERSION:2.0
PRODID:-//ChamberMaster//Event Calendar 2.0//EN
METHOD:PUBLISH
X-PUBLISHED-TTL:P3D
REFRESH-INTERVAL:P3D
CALSCALE:GREGORIAN
BEGIN:VEVENT
DTSTART:20181112T160000Z
DTEND:20181112T163000Z
X-MICROSOFT-CDO-ALLDAYEVENT:FALSE
SUMMARY:Ribbon Cutting for Secure Records Solutions
DESCRIPTION:Join us as we celebrate Secure Records Solutions as a new member during their ribbon cutting ceremony!! Stay for their shred event immediately following in the Chamber parking lot.
X-ALT-DESC;FMTTYPE=text/html:Join us as we celebrate Secure Records Solutions as a new member during their ribbon cutting ceremony!! Stay for their shred event immediately following in the Chamber parking lot.
LOCATION:Moultrie-Colquitt County Chamber of Commerce\, 116 1st Ave SE
UID:e.570.9454
SEQUENCE:3
DTSTAMP:20260425T232853Z
URL:http://business.moultriechamber.com/events/details/ribbon-cutting-for-secure-records-solutions-9454
END:VEVENT

END:VCALENDAR
