BEGIN:VCALENDAR
VERSION:2.0
PRODID:-//ChamberMaster//Event Calendar 2.0//EN
METHOD:PUBLISH
X-PUBLISHED-TTL:P3D
REFRESH-INTERVAL:P3D
CALSCALE:GREGORIAN
BEGIN:VEVENT
DTSTART:20190108T183000Z
DTEND:20190108T190000Z
X-MICROSOFT-CDO-ALLDAYEVENT:FALSE
SUMMARY:Ribbon Cutting for Reliable Tax Plus
DESCRIPTION:Join us in celebrating Reliable Tax Plus as a new Chamber member during their ribbon cutting ceremony!!
X-ALT-DESC;FMTTYPE=text/html:Join us in celebrating Reliable Tax Plus as a new Chamber member during their ribbon cutting ceremony!!
LOCATION:832 North Main Street Moultrie\, GA
UID:e.570.9476
SEQUENCE:3
DTSTAMP:20260425T220330Z
URL:http://business.moultriechamber.com/events/details/ribbon-cutting-for-reliable-tax-plus-9476
END:VEVENT

END:VCALENDAR
