BEGIN:VCALENDAR
VERSION:2.0
PRODID:-//ChamberMaster//Event Calendar 2.0//EN
METHOD:PUBLISH
X-PUBLISHED-TTL:P3D
REFRESH-INTERVAL:P3D
CALSCALE:GREGORIAN
BEGIN:VEVENT
DTSTART:20181204T181500Z
DTEND:20181204T184500Z
X-MICROSOFT-CDO-ALLDAYEVENT:FALSE
SUMMARY:Ribbon Cutting for Real Life K-9
DESCRIPTION:Join us as we celebrate Real Life K-9 as a new Chamber member during their ribbon cutting ceremony!!
X-ALT-DESC;FMTTYPE=text/html:Join us as we celebrate Real Life K-9 as a new Chamber member during their ribbon cutting ceremony!!
LOCATION:Moultrie-Colquitt County Chamber of Commerce\, 116 1st Ave SE
UID:e.570.9458
SEQUENCE:3
DTSTAMP:20260425T220146Z
URL:http://business.moultriechamber.com/events/details/ribbon-cutting-for-real-life-k-9-9458
END:VEVENT

END:VCALENDAR
