BEGIN:VCALENDAR
VERSION:2.0
PRODID:-//ChamberMaster//Event Calendar 2.0//EN
METHOD:PUBLISH
X-PUBLISHED-TTL:P3D
REFRESH-INTERVAL:P3D
CALSCALE:GREGORIAN
BEGIN:VEVENT
DTSTART:20180920T201500Z
DTEND:20180920T204500Z
X-MICROSOFT-CDO-ALLDAYEVENT:FALSE
SUMMARY:Ribbon Cutting for Ready For the Table
DESCRIPTION:Join us as we celebrate Ready For the Table during their ribbon cutting ceremony!!
X-ALT-DESC;FMTTYPE=text/html:Join us as we celebrate Ready For the Table during their ribbon cutting ceremony!!
LOCATION:Moultrie-Colquitt County Chamber of Commerce
UID:e.570.9432
SEQUENCE:3
DTSTAMP:20260426T020423Z
URL:http://business.moultriechamber.com/events/details/ribbon-cutting-for-ready-for-the-table-9432
END:VEVENT

END:VCALENDAR
