BEGIN:VCALENDAR
VERSION:2.0
PRODID:-//ChamberMaster//Event Calendar 2.0//EN
METHOD:PUBLISH
X-PUBLISHED-TTL:P3D
REFRESH-INTERVAL:P3D
CALSCALE:GREGORIAN
BEGIN:VEVENT
DTSTART:20190917T171500Z
DTEND:20190917T174500Z
X-MICROSOFT-CDO-ALLDAYEVENT:FALSE
SUMMARY:Ribbon Cutting for Premier Pools
DESCRIPTION:Join us for a ribbon cutting celebrating one of our newest Chamber members- Premier Pools!\n\n\n\n#TeamChamber
X-ALT-DESC;FMTTYPE=text/html:Join us for a ribbon cutting celebrating one of our newest Chamber members- Premier Pools!<br />\n<br />\n#TeamChamber
LOCATION:1022 1st Street SE
UID:e.570.9642
SEQUENCE:3
DTSTAMP:20260425T114255Z
URL:http://business.moultriechamber.com/events/details/ribbon-cutting-for-premier-pools-9642
END:VEVENT

END:VCALENDAR
