BEGIN:VCALENDAR
VERSION:2.0
PRODID:-//ChamberMaster//Event Calendar 2.0//EN
METHOD:PUBLISH
X-PUBLISHED-TTL:P3D
REFRESH-INTERVAL:P3D
CALSCALE:GREGORIAN
BEGIN:VEVENT
DTSTART:20210323T203000Z
DTEND:20210323T210000Z
X-MICROSOFT-CDO-ALLDAYEVENT:FALSE
SUMMARY:Ribbon Cutting for Posh Kingdom Clothing & Accessories
DESCRIPTION:Join us for a Ribbon Cutting celebrating one of our newest Chamber members- Posh Kingdom Clothing & Accessories!\n\n*Masks & social distancing are encouraged*\n\n#TeamChamber
X-ALT-DESC;FMTTYPE=text/html:<div class="kvgmc6g5 cxmmr5t8 oygrvhab hcukyx3x c1et5uql"><span class="d2edcug0 hpfvmrgz qv66sw1b c1et5uql rrkovp55 a8c37x1j keod5gw0 nxhoafnm aigsh9s9 d3f4x2em fe6kdd0r mau55g9w c8b282yb iv3no6db jq4qci2q a3bd9o3v knj5qynh oo9gr5id" dir="auto">Join us for a Ribbon Cutting celebrating one of our newest Chamber members- Posh Kingdom Clothing &amp\; Accessories!</span></div>\n\n<div class="o9v6fnle cxmmr5t8 oygrvhab hcukyx3x c1et5uql"><span class="d2edcug0 hpfvmrgz qv66sw1b c1et5uql rrkovp55 a8c37x1j keod5gw0 nxhoafnm aigsh9s9 d3f4x2em fe6kdd0r mau55g9w c8b282yb iv3no6db jq4qci2q a3bd9o3v knj5qynh oo9gr5id" dir="auto">*Masks &amp\; social distancing are encouraged*</span></div>\n\n<div class="o9v6fnle cxmmr5t8 oygrvhab hcukyx3x c1et5uql"><span class="d2edcug0 hpfvmrgz qv66sw1b c1et5uql rrkovp55 a8c37x1j keod5gw0 nxhoafnm aigsh9s9 d3f4x2em fe6kdd0r mau55g9w c8b282yb iv3no6db jq4qci2q a3bd9o3v knj5qynh oo9gr5id" dir="auto"><a class="oajrlxb2 g5ia77u1 qu0x051f esr5mh6w e9989ue4 r7d6kgcz rq0escxv nhd2j8a9 nc684nl6 p7hjln8o kvgmc6g5 cxmmr5t8 oygrvhab hcukyx3x jb3vyjys rz4wbd8a qt6c0cv9 a8nywdso i1ao9s8h esuyzwwr f1sip0of lzcic4wl oo9gr5id gpro0wi8 lrazzd5p" href="https://www.facebook.com/hashtag/teamchamber?__eep__=6&amp\;__cft__[0]=AZVdPg_tVknLQ-RD1J6cklA2sFMYIqNJ9SMMZOlhcnLFYUQcTJynlmEoXjk8blX9CG39U7GbBN2u7BoR4kEYiFS8AfBg7AMWfzHYPKB4z_0PeQN5ynOQC451JNK2zmgLqgLKGbvjIT_lOIHdtzxK5_CA&amp\;__tn__=q" role="link" tabindex="0">#TeamChamber</a></span></div>\n
LOCATION:614 Hwy 133 S Moultrie
UID:e.570.11325
SEQUENCE:3
DTSTAMP:20260424T114556Z
URL:http://business.moultriechamber.com/events/details/ribbon-cutting-for-posh-kingdom-clothing-accessories-11325
END:VEVENT

END:VCALENDAR
