BEGIN:VCALENDAR
VERSION:2.0
PRODID:-//ChamberMaster//Event Calendar 2.0//EN
METHOD:PUBLISH
X-PUBLISHED-TTL:P3D
REFRESH-INTERVAL:P3D
CALSCALE:GREGORIAN
BEGIN:VEVENT
DTSTART:20181002T171500Z
DTEND:20181002T174500Z
X-MICROSOFT-CDO-ALLDAYEVENT:FALSE
SUMMARY:Ribbon Cutting for Plymel Agency
DESCRIPTION:Join us as we celebrate Plymel Agency\, an insurance agency\, during their ribbon cutting ceremony!!
X-ALT-DESC;FMTTYPE=text/html:Join us as we celebrate Plymel Agency\, an insurance agency\, during their ribbon cutting ceremony!!
LOCATION:9 1st Ave SW
UID:e.570.9436
SEQUENCE:3
DTSTAMP:20260426T005414Z
URL:http://business.moultriechamber.com/events/details/ribbon-cutting-for-plymel-agency-9436
END:VEVENT

END:VCALENDAR
