BEGIN:VCALENDAR
VERSION:2.0
PRODID:-//ChamberMaster//Event Calendar 2.0//EN
METHOD:PUBLISH
X-PUBLISHED-TTL:P3D
REFRESH-INTERVAL:P3D
CALSCALE:GREGORIAN
BEGIN:VEVENT
DTSTART:20180816T143000Z
DTEND:20180816T150000Z
X-MICROSOFT-CDO-ALLDAYEVENT:FALSE
SUMMARY:Ribbon Cutting for Plantation 81 & Company
DESCRIPTION:Join us in celebrating Plantation 81 & Company during their ribbon cutting ceremony!
X-ALT-DESC;FMTTYPE=text/html:Join us in celebrating Plantation 81 &amp\; Company during their ribbon cutting ceremony!
LOCATION:7 1st Street SE\, Moultrie\, GA
UID:e.570.9345
SEQUENCE:3
DTSTAMP:20260426T032656Z
URL:http://business.moultriechamber.com/events/details/ribbon-cutting-for-plantation-81-company-9345
END:VEVENT

END:VCALENDAR
