BEGIN:VCALENDAR
VERSION:2.0
PRODID:-//ChamberMaster//Event Calendar 2.0//EN
METHOD:PUBLISH
X-PUBLISHED-TTL:P3D
REFRESH-INTERVAL:P3D
CALSCALE:GREGORIAN
BEGIN:VEVENT
DTSTART:20180924T200000Z
DTEND:20180924T203000Z
X-MICROSOFT-CDO-ALLDAYEVENT:FALSE
SUMMARY:Ribbon Cutting for Pavo Haunted House
DESCRIPTION:Join us as we celebrate Pavo Haunted House and the launch of their event season (voted #1 haunted house in GA) during their ribbon cutting ceremony!!
X-ALT-DESC;FMTTYPE=text/html:Join us as we celebrate Pavo Haunted House and the launch of their event season (voted #1 haunted house in GA) during their ribbon cutting ceremony!!
LOCATION:2061 McDonald Street\, Pavo\, GA 31778
UID:e.570.9434
SEQUENCE:3
DTSTAMP:20260426T021329Z
URL:http://business.moultriechamber.com/events/details/ribbon-cutting-for-pavo-haunted-house-9434
END:VEVENT

END:VCALENDAR
