BEGIN:VCALENDAR
VERSION:2.0
PRODID:-//ChamberMaster//Event Calendar 2.0//EN
METHOD:PUBLISH
X-PUBLISHED-TTL:P3D
REFRESH-INTERVAL:P3D
CALSCALE:GREGORIAN
BEGIN:VEVENT
DTSTART:20180921T150000Z
DTEND:20180921T153000Z
X-MICROSOFT-CDO-ALLDAYEVENT:FALSE
SUMMARY:Ribbon Cutting for Mule Barn Park
DESCRIPTION:Join the City of Moultrie and the Colquitt County Board of Commissioners as they celebrate the new Mule Barn Park at their ribbon cutting!
X-ALT-DESC;FMTTYPE=text/html:Join the City of Moultrie and the Colquitt County Board of Commissioners as they celebrate the new Mule Barn Park at their ribbon cutting!
LOCATION:Mule Barn Park located at the corner of E Central Ave & 2nd Street NE
UID:e.570.9433
SEQUENCE:3
DTSTAMP:20260426T020859Z
URL:http://business.moultriechamber.com/events/details/ribbon-cutting-for-mule-barn-park-9433
END:VEVENT

END:VCALENDAR
