BEGIN:VCALENDAR
VERSION:2.0
PRODID:-//ChamberMaster//Event Calendar 2.0//EN
METHOD:PUBLISH
X-PUBLISHED-TTL:P3D
REFRESH-INTERVAL:P3D
CALSCALE:GREGORIAN
BEGIN:VEVENT
DTSTART:20180815T130000Z
DTEND:20180815T133000Z
X-MICROSOFT-CDO-ALLDAYEVENT:FALSE
SUMMARY:Ribbon Cutting for Moultrie Colquitt County Parks & Rec Authority
DESCRIPTION:Join us in celebrating the Moultrie Colquitt County Parks & Recreation Authority during their ribbon cutting ceremony!
X-ALT-DESC;FMTTYPE=text/html:Join us in celebrating the Moultrie Colquitt County Parks &amp\; Recreation Authority during their ribbon cutting ceremony!
LOCATION:1020 4th Street SW\, Moultrie\, GA
UID:e.570.9344
SEQUENCE:3
DTSTAMP:20260426T032504Z
URL:http://business.moultriechamber.com/events/details/ribbon-cutting-for-moultrie-colquitt-county-parks-rec-authority-9344
END:VEVENT

END:VCALENDAR
