BEGIN:VCALENDAR
VERSION:2.0
PRODID:-//ChamberMaster//Event Calendar 2.0//EN
METHOD:PUBLISH
X-PUBLISHED-TTL:P3D
REFRESH-INTERVAL:P3D
CALSCALE:GREGORIAN
BEGIN:VEVENT
DTSTART:20181126T203000Z
DTEND:20181126T210000Z
X-MICROSOFT-CDO-ALLDAYEVENT:FALSE
SUMMARY:Ribbon Cutting for Monkey Britches Boutique
DESCRIPTION:Join us as we celebrate Monkey Britches Boutique during their ribbon cutting ceremony!!
X-ALT-DESC;FMTTYPE=text/html:Join us as we celebrate Monkey Britches Boutique during their ribbon cutting ceremony!!
LOCATION:Inside Market on the Square\, 15 East Central Ave
UID:e.570.9456
SEQUENCE:3
DTSTAMP:20260425T233000Z
URL:http://business.moultriechamber.com/events/details/ribbon-cutting-for-monkey-britches-boutique-9456
END:VEVENT

END:VCALENDAR
