BEGIN:VCALENDAR
VERSION:2.0
PRODID:-//ChamberMaster//Event Calendar 2.0//EN
METHOD:PUBLISH
X-PUBLISHED-TTL:P3D
REFRESH-INTERVAL:P3D
CALSCALE:GREGORIAN
BEGIN:VEVENT
DTSTART:20181010T150000Z
DTEND:20181010T153000Z
X-MICROSOFT-CDO-ALLDAYEVENT:FALSE
SUMMARY:Ribbon Cutting for Monkey Britches
DESCRIPTION:Join us as we celebrate Monkey Britches\, a children's boutique\, during their ribbon cutting ceremony!!
X-ALT-DESC;FMTTYPE=text/html:Join us as we celebrate Monkey Britches\, a children&#39\;s boutique\, during their ribbon cutting ceremony!!
LOCATION:Inside Market on the Square\, 15 East Central Ave
UID:e.570.9438
SEQUENCE:3
DTSTAMP:20260426T004250Z
URL:http://business.moultriechamber.com/events/details/ribbon-cutting-for-monkey-britches-9438
END:VEVENT

END:VCALENDAR
