BEGIN:VCALENDAR
VERSION:2.0
PRODID:-//ChamberMaster//Event Calendar 2.0//EN
METHOD:PUBLISH
X-PUBLISHED-TTL:P3D
REFRESH-INTERVAL:P3D
CALSCALE:GREGORIAN
BEGIN:VEVENT
DTSTART:20190718T140000Z
DTEND:20190718T143000Z
X-MICROSOFT-CDO-ALLDAYEVENT:FALSE
SUMMARY:Ribbon Cutting for Mama D's Sweet Shop
DESCRIPTION:Join us for a ribbon cutting celebrating Mama D's Sweet Shop as one of our newest Chamber members!\n\n\n\n#TeamChamber
X-ALT-DESC;FMTTYPE=text/html:Join us for a ribbon cutting celebrating Mama D&#39\;s Sweet Shop as one of our newest Chamber members!<br />\n<br />\n#TeamChamber
LOCATION:134 1st Ave SE\, Moultrie
UID:e.570.9580
SEQUENCE:3
DTSTAMP:20260425T130628Z
URL:http://business.moultriechamber.com/events/details/ribbon-cutting-for-mama-d-s-sweet-shop-9580
END:VEVENT

END:VCALENDAR
