BEGIN:VCALENDAR
VERSION:2.0
PRODID:-//ChamberMaster//Event Calendar 2.0//EN
METHOD:PUBLISH
X-PUBLISHED-TTL:P3D
REFRESH-INTERVAL:P3D
CALSCALE:GREGORIAN
BEGIN:VEVENT
DTSTART:20210615T140000Z
DTEND:20210615T143000Z
X-MICROSOFT-CDO-ALLDAYEVENT:FALSE
SUMMARY:Ribbon Cutting for Key South Real Estate Group- Paula Barrett\, Realtor
DESCRIPTION:Join us for a Ribbon Cutting celebrating one of our newest Chamber members- Key South Real Estate Group- Paula Barrett\, Realtor!\n\n*Masks & social distancing are encouraged*
X-ALT-DESC;FMTTYPE=text/html:<div class="kvgmc6g5 cxmmr5t8 oygrvhab hcukyx3x c1et5uql" style="word-wrap: break-word\; margin: 0px\; font-family: system-ui\, -apple-system\, BlinkMacSystemFont\, &quot\;.SFNSText-Regular&quot\;\, sans-serif\; caret-color: rgb(5\, 5\, 5)\; color: rgb(5\, 5\, 5)\; font-size: 15px\;">\n<div class="kvgmc6g5 cxmmr5t8 oygrvhab hcukyx3x c1et5uql" style="word-wrap: break-word\; margin: 0px\; font-family: system-ui\, -apple-system\, BlinkMacSystemFont\, &quot\;.SFNSText-Regular&quot\;\, sans-serif\; caret-color: rgb(5\, 5\, 5)\; color: rgb(5\, 5\, 5)\; font-size: 15px\;">Join us for a Ribbon Cutting celebrating one of our newest Chamber members- Key South Real Estate Group- Paula Barrett\, Realtor!</div>\n\n<div class="o9v6fnle cxmmr5t8 oygrvhab hcukyx3x c1et5uql" style="word-wrap: break-word\; margin: 0.5em 0px 0px\; font-family: system-ui\, -apple-system\, BlinkMacSystemFont\, &quot\;.SFNSText-Regular&quot\;\, sans-serif\; caret-color: rgb(5\, 5\, 5)\; color: rgb(5\, 5\, 5)\; font-size: 15px\;">*Masks &amp\; social distancing are encouraged*</div>\n</div>\n
LOCATION:116 1st Ave SE\, Moultrie (Chamber)
UID:e.570.11456
SEQUENCE:3
DTSTAMP:20260424T080321Z
URL:http://business.moultriechamber.com/events/details/ribbon-cutting-for-key-south-real-estate-group-paula-barrett-realtor-11456
END:VEVENT

END:VCALENDAR
