BEGIN:VCALENDAR
VERSION:2.0
PRODID:-//ChamberMaster//Event Calendar 2.0//EN
METHOD:PUBLISH
X-PUBLISHED-TTL:P3D
REFRESH-INTERVAL:P3D
CALSCALE:GREGORIAN
BEGIN:VEVENT
DTSTART:20181009T133000Z
DTEND:20181009T140000Z
X-MICROSOFT-CDO-ALLDAYEVENT:FALSE
SUMMARY:Ribbon Cutting for Je T'aime A Bridal Boutique
DESCRIPTION:Join us as we celebrate Je T'aime A Bridal Boutique during their ribbon cutting ceremony!!
X-ALT-DESC;FMTTYPE=text/html:Join us as we celebrate Je T&#39\;aime A Bridal Boutique during their ribbon cutting ceremony!!
LOCATION:125 South Main Street\, Moultrie
UID:e.570.9443
SEQUENCE:3
DTSTAMP:20260426T005521Z
URL:http://business.moultriechamber.com/events/details/ribbon-cutting-for-je-t-aime-a-bridal-boutique-9443
END:VEVENT

END:VCALENDAR
