BEGIN:VCALENDAR
VERSION:2.0
PRODID:-//ChamberMaster//Event Calendar 2.0//EN
METHOD:PUBLISH
X-PUBLISHED-TTL:P3D
REFRESH-INTERVAL:P3D
CALSCALE:GREGORIAN
BEGIN:VEVENT
DTSTART:20210831T130000Z
DTEND:20210831T140000Z
X-MICROSOFT-CDO-ALLDAYEVENT:FALSE
SUMMARY:Ribbon Cutting for J & J Success LLC
DESCRIPTION:Join us for a Ribbon Cutting celebrating one of our newest Chamber members-\n\nJ & J Success LLC!\n\n\n\n*Masks & social distancing are encouraged*\n\n\n\n#TeamChamber
X-ALT-DESC;FMTTYPE=text/html:Join us for a Ribbon Cutting celebrating one of our newest Chamber members-<br />\nJ &amp\; J Success LLC!<br />\n<br />\n*Masks &amp\; social distancing are encouraged*<br />\n<br />\n#TeamChamber
LOCATION:Lot 30\, 80 Baell Trace Ct\, Moultrie\, GA
UID:e.570.11940
SEQUENCE:3
DTSTAMP:20260424T055635Z
URL:http://business.moultriechamber.com/events/details/ribbon-cutting-for-j-j-success-llc-11940
END:VEVENT

END:VCALENDAR
