BEGIN:VCALENDAR
VERSION:2.0
PRODID:-//ChamberMaster//Event Calendar 2.0//EN
METHOD:PUBLISH
X-PUBLISHED-TTL:P3D
REFRESH-INTERVAL:P3D
CALSCALE:GREGORIAN
BEGIN:VEVENT
DTSTART:20190913T140000Z
DTEND:20190913T143000Z
X-MICROSOFT-CDO-ALLDAYEVENT:FALSE
SUMMARY:Ribbon Cutting for H K Beauty Bar
DESCRIPTION:Join us for a ribbon cutting celebrating H K Beauty Bar as one of our newest Chamber members!\n\n\n\n#TeamChamber
X-ALT-DESC;FMTTYPE=text/html:Join us for a ribbon cutting celebrating H K Beauty Bar as one of our newest Chamber members!<br />\n<br />\n#TeamChamber
LOCATION:707 South Main Street\, Moultrie
UID:e.570.9596
SEQUENCE:3
DTSTAMP:20260425T115608Z
URL:http://business.moultriechamber.com/events/details/ribbon-cutting-for-h-k-beauty-bar-9596
END:VEVENT

END:VCALENDAR
