BEGIN:VCALENDAR
VERSION:2.0
PRODID:-//ChamberMaster//Event Calendar 2.0//EN
METHOD:PUBLISH
X-PUBLISHED-TTL:P3D
REFRESH-INTERVAL:P3D
CALSCALE:GREGORIAN
BEGIN:VEVENT
DTSTART:20210902T203000Z
DTEND:20210902T210000Z
X-MICROSOFT-CDO-ALLDAYEVENT:FALSE
SUMMARY:Ribbon Cutting for Flowers by Barrett
DESCRIPTION:Join us for a Ribbon Cutting celebrating one of our newest Chamber members-\n\nFlowers by Barrett!\n\n\n\n*Masks & social distancing are encouraged*\n\n\n\n#TeamChamber
X-ALT-DESC;FMTTYPE=text/html:Join us for a Ribbon Cutting celebrating one of our newest Chamber members-<br />\nFlowers by Barrett!<br />\n<br />\n*Masks &amp\; social distancing are encouraged*<br />\n<br />\n#TeamChamber<br />\n&nbsp\;
LOCATION:301 3rd St SE\, Moultrie\, GA
UID:e.570.11941
SEQUENCE:3
DTSTAMP:20260424T043204Z
URL:http://business.moultriechamber.com/events/details/ribbon-cutting-for-flowers-by-barrett-11941
END:VEVENT

END:VCALENDAR
