BEGIN:VCALENDAR
VERSION:2.0
PRODID:-//ChamberMaster//Event Calendar 2.0//EN
METHOD:PUBLISH
X-PUBLISHED-TTL:P3D
REFRESH-INTERVAL:P3D
CALSCALE:GREGORIAN
BEGIN:VEVENT
DTSTART:20180419T211500Z
DTEND:20180419T214500Z
X-MICROSOFT-CDO-ALLDAYEVENT:FALSE
SUMMARY:Ribbon Cutting for Elev8
DESCRIPTION:Join us in celebrating the Grand Reopening of Elev8 at their new location ribbon cutting!
X-ALT-DESC;FMTTYPE=text/html:Join us in celebrating the Grand Reopening of Elev8 at their new location ribbon cutting!
LOCATION:304 2nd Street NE Moultrie\, GA 31768
UID:e.570.9199
SEQUENCE:3
DTSTAMP:20260424T080806Z
URL:http://business.moultriechamber.com/events/details/ribbon-cutting-for-elev8-9199
END:VEVENT

END:VCALENDAR
