BEGIN:VCALENDAR
VERSION:2.0
PRODID:-//ChamberMaster//Event Calendar 2.0//EN
METHOD:PUBLISH
X-PUBLISHED-TTL:P3D
REFRESH-INTERVAL:P3D
CALSCALE:GREGORIAN
BEGIN:VEVENT
DTSTART:20190925T140000Z
DTEND:20190925T143000Z
X-MICROSOFT-CDO-ALLDAYEVENT:FALSE
SUMMARY:Ribbon Cutting for Dustmade 2nd location
DESCRIPTION:Join us for a ribbon cutting celebrating the opening of Dustmade's second location!\n\n\n\n#TeamChamber
X-ALT-DESC;FMTTYPE=text/html:Join us for a ribbon cutting celebrating the opening of Dustmade&#39\;s second location!<br />\n<br />\n#TeamChamber
LOCATION:120 South Main Street
UID:e.570.9644
SEQUENCE:3
DTSTAMP:20260425T114235Z
URL:http://business.moultriechamber.com/events/details/ribbon-cutting-for-dustmade-2nd-location-9644
END:VEVENT

END:VCALENDAR
