BEGIN:VCALENDAR
VERSION:2.0
PRODID:-//ChamberMaster//Event Calendar 2.0//EN
METHOD:PUBLISH
X-PUBLISHED-TTL:P3D
REFRESH-INTERVAL:P3D
CALSCALE:GREGORIAN
BEGIN:VEVENT
DTSTART:20200218T150000Z
DTEND:20200218T152500Z
X-MICROSOFT-CDO-ALLDAYEVENT:FALSE
SUMMARY:Ribbon Cutting for Doughboys Pizza
DESCRIPTION:Join us for a ribbon cutting celebrating Doughboys Pizza as one of our newest Chamber members!\n\n\n\n#TeamChamber
X-ALT-DESC;FMTTYPE=text/html:Join us for a ribbon cutting celebrating Doughboys Pizza as one of our newest Chamber members!<br />\n<br />\n#TeamChamber
LOCATION:1424 N Main Street
UID:e.570.11128
SEQUENCE:3
DTSTAMP:20260425T040630Z
URL:http://business.moultriechamber.com/events/details/ribbon-cutting-for-doughboys-pizza-11128
END:VEVENT

END:VCALENDAR
