BEGIN:VCALENDAR
VERSION:2.0
PRODID:-//ChamberMaster//Event Calendar 2.0//EN
METHOD:PUBLISH
X-PUBLISHED-TTL:P3D
REFRESH-INTERVAL:P3D
CALSCALE:GREGORIAN
BEGIN:VEVENT
DTSTART:20181011T203000Z
DTEND:20181011T210000Z
X-MICROSOFT-CDO-ALLDAYEVENT:FALSE
SUMMARY:Ribbon Cutting for Crooked River Enterprises
DESCRIPTION:Join us as we celebrate Crooked River Enterprises\, a cleaning company\, during their ribbon cutting ceremony!!
X-ALT-DESC;FMTTYPE=text/html:Join us as we celebrate Crooked River Enterprises\, a cleaning company\, during their ribbon cutting ceremony!!
LOCATION:Moultrie-Colquitt County Chamber of Commerce
UID:e.570.9439
SEQUENCE:3
DTSTAMP:20260426T005210Z
URL:http://business.moultriechamber.com/events/details/ribbon-cutting-for-crooked-river-enterprises-9439
END:VEVENT

END:VCALENDAR
