BEGIN:VCALENDAR
VERSION:2.0
PRODID:-//ChamberMaster//Event Calendar 2.0//EN
METHOD:PUBLISH
X-PUBLISHED-TTL:P3D
REFRESH-INTERVAL:P3D
CALSCALE:GREGORIAN
BEGIN:VEVENT
DTSTART:20181127T213000Z
DTEND:20181127T220000Z
X-MICROSOFT-CDO-ALLDAYEVENT:FALSE
SUMMARY:Ribbon Cutting for Crooked River Enterprises
DESCRIPTION:Join us as we celebrate Crooked River Enterprises as a new Chamber member during their ribbon cutting ceremony!!
X-ALT-DESC;FMTTYPE=text/html:Join us as we celebrate Crooked River Enterprises as a new Chamber member during their ribbon cutting ceremony!!
LOCATION:Moultrie-Colquitt County Chamber of Commerce\, 116 1st Ave SE
UID:e.570.9457
SEQUENCE:3
DTSTAMP:20260426T004652Z
URL:http://business.moultriechamber.com/events/details/ribbon-cutting-for-crooked-river-enterprises-11-27-2018-9457
END:VEVENT

END:VCALENDAR
