BEGIN:VCALENDAR
VERSION:2.0
PRODID:-//ChamberMaster//Event Calendar 2.0//EN
METHOD:PUBLISH
X-PUBLISHED-TTL:P3D
REFRESH-INTERVAL:P3D
CALSCALE:GREGORIAN
BEGIN:VEVENT
DTSTART:20200212T160000Z
DTEND:20200212T162500Z
X-MICROSOFT-CDO-ALLDAYEVENT:FALSE
SUMMARY:Ribbon Cutting for Cathey Services
DESCRIPTION:Join us for a ribbon cutting celebrating Cathey Services as one of our newest Chamber members!\n\n\n\n#TeamChamber
X-ALT-DESC;FMTTYPE=text/html:Join us for a ribbon cutting celebrating Cathey Services as one of our newest Chamber members!<br />\n<br />\n#TeamChamber
LOCATION:927 West Central Ave
UID:e.570.11127
SEQUENCE:3
DTSTAMP:20260425T040642Z
URL:http://business.moultriechamber.com/events/details/ribbon-cutting-for-cathey-services-11127
END:VEVENT

END:VCALENDAR
